BEGIN:VCALENDAR
VERSION:2.0
CALSCALE:GREGORIAN
METHOD:PUBLISH
X-WR-TIMEZONE:Australia/Sydney
BEGIN:VTIMEZONE
TZID:Australia/Sydney
BEGIN:STANDARD
TZNAME:AEST
DTSTART:19700101T000000
TZOFFSETFROM:+1100
TZOFFSETTO:+1000
END:STANDARD
END:VTIMEZONE
BEGIN:VEVENT
DTSTART;TZID=Australia/Sydney:20260506
DTEND;TZID=Australia/Sydney:20260506
DTSTAMP:20260420T222526
UID:203
SUMMARY:eNews Strategies &amp; Support PD
DESCRIPTION:




We&amp;rsquo;ll begin with a few practical strategies to help you make the most of the system - ensuring you are using the right tools for the job.&amp;nbsp; Then we&#039;ll open up for questions and hands-on support to address your specific needs.Running time: Approx 30 minutesWednesday 6th May at 11am (9am WST)Register here


SEQUENCE:0
STATUS:CONFIRMED
TRANSP:OPAQUE
END:VEVENT
END:VCALENDAR