BEGIN:VCALENDAR
VERSION:2.0
CALSCALE:GREGORIAN
METHOD:PUBLISH
X-WR-TIMEZONE:Australia/Sydney
BEGIN:VTIMEZONE
TZID:Australia/Sydney
BEGIN:STANDARD
TZNAME:AEST
DTSTART:19700101T000000
TZOFFSETFROM:+1100
TZOFFSETTO:+1000
END:STANDARD
END:VTIMEZONE
BEGIN:VEVENT
DTSTART;TZID=Australia/Sydney:20260430
DTEND;TZID=Australia/Sydney:20260430
DTSTAMP:20260420T223008
UID:202
SUMMARY:Get More From Your Site PD
DESCRIPTION:




In this session we will run you through some of the more enhanced features of your website.&amp;nbsp; We&#039;ll look at widgets, embedding forms, uploading videos and a few tidbits that will help you with your website editing.Running time: Approx 30 minutesThursday 30th April at 1pm (11am WST)Register here


SEQUENCE:0
STATUS:CONFIRMED
TRANSP:OPAQUE
END:VEVENT
END:VCALENDAR