BEGIN:VCALENDAR
VERSION:2.0
CALSCALE:GREGORIAN
METHOD:PUBLISH
X-WR-TIMEZONE:Australia/Sydney
BEGIN:VTIMEZONE
TZID:Australia/Sydney
BEGIN:STANDARD
TZNAME:AEST
DTSTART:19700101T000000
TZOFFSETFROM:+1100
TZOFFSETTO:+1000
END:STANDARD
END:VTIMEZONE
BEGIN:VEVENT
DTSTART;TZID=Australia/Sydney:20260429
DTEND;TZID=Australia/Sydney:20260429
DTSTAMP:20260420T222345
UID:201
SUMMARY:A Tour Through our Web Themes
DESCRIPTION:




Did you know we have 10 different web themes? Each uses the same admin controls so you can refresh your site&amp;rsquo;s look with minimal effort while keeping things familiar behind the scenes.
We&amp;rsquo;ll showcase our favourite themes, guiding you through their unique features, layout options, and design styles to help you choose what best suits your school&amp;rsquo;s brand and communication goals.We will offer a half price theme upgrade to all attendees too!Running time: Approx 20 minutes
Wednesday 29th April at 10.30am (8.30am WST)Register here


SEQUENCE:0
STATUS:CONFIRMED
TRANSP:OPAQUE
END:VEVENT
END:VCALENDAR