BEGIN:VCALENDAR
VERSION:2.0
CALSCALE:GREGORIAN
METHOD:PUBLISH
X-WR-TIMEZONE:Australia/Sydney
BEGIN:VTIMEZONE
TZID:Australia/Sydney
BEGIN:STANDARD
TZNAME:AEST
DTSTART:19700101T000000
TZOFFSETFROM:+1100
TZOFFSETTO:+1000
END:STANDARD
END:VTIMEZONE
BEGIN:VEVENT
DTSTART;TZID=Australia/Sydney:20260508
DTEND;TZID=Australia/Sydney:20260508
DTSTAMP:20260422T080908
UID:200
SUMMARY:Beginner Basics PD
DESCRIPTION:




This session will run you through the basics of maintaining your website including - loading pdfs, images, creating new pages and adding dates to your calendar.&amp;nbsp;&amp;nbsp; Suitable for users that have attended the initial sponsor-ed training but need a refresher.Running time: Approx 30 minutesFriday 8th May at 10.30am (8.30am WST)Register here


SEQUENCE:0
STATUS:CONFIRMED
TRANSP:OPAQUE
END:VEVENT
END:VCALENDAR